BEGIN:VCALENDAR
VERSION:2.0
PRODID:-//A Veteran&#039;s Gig - ECPv6.15.20//NONSGML v1.0//EN
CALSCALE:GREGORIAN
METHOD:PUBLISH
X-WR-CALNAME:A Veteran&#039;s Gig
X-ORIGINAL-URL:https://aveteransgig.com
X-WR-CALDESC:Events for A Veteran&#039;s Gig
REFRESH-INTERVAL;VALUE=DURATION:PT1H
X-Robots-Tag:noindex
X-PUBLISHED-TTL:PT1H
BEGIN:VTIMEZONE
TZID:UTC
BEGIN:STANDARD
TZOFFSETFROM:+0000
TZOFFSETTO:+0000
TZNAME:UTC
DTSTART:20230101T000000
END:STANDARD
END:VTIMEZONE
BEGIN:VEVENT
DTSTART;TZID=UTC:20241010T080000
DTEND;TZID=UTC:20241014T170000
DTSTAMP:20260419T172706
CREATED:20240702T021312Z
LAST-MODIFIED:20240702T021645Z
UID:91-1728547200-1728925200@aveteransgig.com
SUMMARY:SweatFest Cancun
DESCRIPTION:The Ultimate Grown and Sexy Destination Music Event!\n\n\n\n\nSweatFest Cancun is a 5-day\, 4-night destination musical experience filled with a mixture of your favorite R&B and comedy performers at the perfect place in paradise: the all-inclusive Planet Hollywood Cancun Resort and Spa and Planet Hollywood Adult Scene in Cancun\, Mexico. \n\n 
URL:https://aveteransgig.com/event/sweatfest-cancun/
LOCATION:Planet Hollywood Cancun Resort and Spa\, Cancun\, Mexico
ATTACH;FMTTYPE=image/png:https://aveteransgig.com/wp-content/uploads/2024/07/SwearFestCancun-Logo.png
END:VEVENT
END:VCALENDAR